BEGIN:VCALENDAR
VERSION:2.0
PRODID:-//eventon.com NONSGML v1.0//EN
BEGIN:VEVENT
UID:69e8a054a45f7
DTSTAMP:20260422T111756
DTSTART:20191123T100000Z
DTEND:20191123T150000Z
TZID:UTC
LOCATION:
SUMMARY:Food & Drink Pop-Up
DESCRIPTION: Saturday 23 November 10am &#8211; 3pm Asby Village Hall &nbsp; A great event is happening at the village hall in Great Asby\,  and you are cordially invited to be a part of the &#8220;Food and Drink Pop up&#8221; shop!  We&#8217;re hoping this will be a fun filled\,  belly topping\,  and[..]\nhttps://asbyparish.org.uk/events/food-drink-pop-up/
URL:https://asbyparish.org.uk/events/food-drink-pop-up/
END:VEVENT
END:VCALENDAR