BEGIN:VCALENDAR
VERSION:2.0
PRODID:-//eventon.com NONSGML v1.0//EN
BEGIN:VEVENT
UID:69eb51a9068bb
DTSTAMP:20260424T121905
DTSTART:20260926T203000Z
DTEND:20260926T223000Z
TZID:Etc/Greenwich
LOCATION:The Three Greyhounds Great Asby
SUMMARY:Band Night
DESCRIPTION: &nbsp; Terry Gorman: singer\,  guitarist\,  highly experienced\,  and lively one liners in-between songs that connect with an audience keeping them interested.  Has played all over the UK and Europe\,  working with famous acts.  He’s done Festivals\, TV\,  Radio etc. Very professional &#8211; no backing tracks &#8211; no music stand &#8211; no[..]\nhttps://asbyparish.org.uk/events/band-night-27/
URL:https://asbyparish.org.uk/events/band-night-27/
END:VEVENT
END:VCALENDAR