BEGIN:VCALENDAR
VERSION:2.0
PRODID:-//eventon.com NONSGML v1.0//EN
BEGIN:VEVENT
UID:69eb419900ec0
DTSTAMP:20260424T111033
DTSTART:20231023T100000Z
DTEND:20231023T120000Z
TZID:Etc/Greenwich
LOCATION:St Peter's Church Great Asby
SUMMARY:Messy Church
DESCRIPTION: &nbsp; Messy Church&#8217; is a comfortable space for children of all ages to partake in crafts and activities. Children must be accompanied by an adult. Free entrance\,  all welcome! For more information contact: Pat Bevan Tel: 017683 53433 &nbsp;\nhttps://asbyparish.org.uk/events/messy-church/
URL:https://asbyparish.org.uk/events/messy-church/
END:VEVENT
END:VCALENDAR